BEGIN:VCALENDAR
VERSION:2.0
PRODID:-//ANGELVEREIN AKEN e.V. - ECPv6.15.12.2//NONSGML v1.0//EN
CALSCALE:GREGORIAN
METHOD:PUBLISH
X-WR-CALNAME:ANGELVEREIN AKEN e.V.
X-ORIGINAL-URL:https://www.av-aken.de
X-WR-CALDESC:Veranstaltungen für ANGELVEREIN AKEN e.V.
REFRESH-INTERVAL;VALUE=DURATION:PT1H
X-Robots-Tag:noindex
X-PUBLISHED-TTL:PT1H
BEGIN:VTIMEZONE
TZID:UTC
BEGIN:STANDARD
TZOFFSETFROM:+0000
TZOFFSETTO:+0000
TZNAME:UTC
DTSTART:20250101T000000
END:STANDARD
END:VTIMEZONE
BEGIN:VEVENT
DTSTART;TZID=UTC:20260418T180000
DTEND;TZID=UTC:20260418T220000
DTSTAMP:20260424T115336
CREATED:20260315T055455Z
LAST-MODIFIED:20260315T055455Z
UID:1061-1776535200-1776549600@www.av-aken.de
SUMMARY:Vereinsvergnügen
DESCRIPTION:Am 18. April findet unser jährliches Vereinsvergnügen im Ratskeller statt. \nWir verlosen unter allen wertvolles Angelequipment\, aber auch andere wichtige Artikel für daheim. Und jeder kann sein Tanzbein schwingen. \nEinlass ist am 18.04.2026 ab 18:00Uhr\, Beginn ab 18:30Uhr
URL:https://www.av-aken.de/event/vereinsvergnuegen/
END:VEVENT
BEGIN:VEVENT
DTSTART;TZID=UTC:20260412T100000
DTEND;TZID=UTC:20260412T110000
DTSTAMP:20260424T115336
CREATED:20260315T055625Z
LAST-MODIFIED:20260316T063018Z
UID:1065-1775988000-1775991600@www.av-aken.de
SUMMARY:Losverkauf zu unserem Vereinsvergnügen
DESCRIPTION:
URL:https://www.av-aken.de/event/losverkauf-zu-unserem-angelvergnuegen-2/
LOCATION:Vereinsheim am Magdalenenteich
ORGANIZER;CN="ANGELVEREIN AKEN e.V.":MAILTO:uwe@manzei.com
END:VEVENT
BEGIN:VEVENT
DTSTART;TZID=UTC:20260329T100000
DTEND;TZID=UTC:20260329T110000
DTSTAMP:20260424T115336
CREATED:20260315T055554Z
LAST-MODIFIED:20260316T063041Z
UID:1063-1774778400-1774782000@www.av-aken.de
SUMMARY:Losverkauf zu unserem Vereinsvergnügen
DESCRIPTION:
URL:https://www.av-aken.de/event/losverkauf-zu-unserem-angelvergnuegen/
LOCATION:Vereinsheim am Magdalenenteich
ORGANIZER;CN="ANGELVEREIN AKEN e.V.":MAILTO:uwe@manzei.com
END:VEVENT
BEGIN:VEVENT
DTSTART;TZID=UTC:20260315T110000
DTEND;TZID=UTC:20260315T120000
DTSTAMP:20260424T115336
CREATED:20251204T083454Z
LAST-MODIFIED:20251204T083454Z
UID:968-1773572400-1773576000@www.av-aken.de
SUMMARY:3. Markenausgabe
DESCRIPTION:Die dritte Markenausgabe für 2026 findet wieder in unserem Vereinsheim statt.
URL:https://www.av-aken.de/event/3-markenausgabe/
LOCATION:Vereinsheim am Magdalenenteich
ORGANIZER;CN="ANGELVEREIN AKEN e.V.":MAILTO:uwe@manzei.com
END:VEVENT
END:VCALENDAR