BEGIN:VCALENDAR
VERSION:2.0
PRODID:-//ANGELVEREIN AKEN e.V. - ECPv6.15.12.2//NONSGML v1.0//EN
CALSCALE:GREGORIAN
METHOD:PUBLISH
X-WR-CALNAME:ANGELVEREIN AKEN e.V.
X-ORIGINAL-URL:https://www.av-aken.de
X-WR-CALDESC:Veranstaltungen für ANGELVEREIN AKEN e.V.
REFRESH-INTERVAL;VALUE=DURATION:PT1H
X-Robots-Tag:noindex
X-PUBLISHED-TTL:PT1H
BEGIN:VTIMEZONE
TZID:UTC
BEGIN:STANDARD
TZOFFSETFROM:+0000
TZOFFSETTO:+0000
TZNAME:UTC
DTSTART:20250101T000000
END:STANDARD
END:VTIMEZONE
BEGIN:VEVENT
DTSTART;TZID=UTC:20260426T070000
DTEND;TZID=UTC:20260426T110000
DTSTAMP:20260424T101952
CREATED:20260315T053621Z
LAST-MODIFIED:20260423T045253Z
UID:1038-1777186800-1777201200@www.av-aken.de
SUMMARY:Anangeln
DESCRIPTION:Wir treffen uns um 07:00Uhr\, Start ist 07:30Uhr. \nWie immer gilt: \n\nDauer drei Stunden\nnur eine Rute gleichzeitig\nnur Weißfisch (außer Ukelei)\nPose und Feedern gestattet\nmit Anfüttern\n\nZu Details schaut bitte in unseren Schaukasten am Vereinsheim oder zeitnah hier vorbei.
URL:https://www.av-aken.de/event/anangeln/
LOCATION:Magdalenenteich
ORGANIZER;CN="ANGELVEREIN AKEN e.V.":MAILTO:uwe@manzei.com
END:VEVENT
BEGIN:VEVENT
DTSTART;TZID=UTC:20260516T170000
DTEND;TZID=UTC:20260517T010000
DTSTAMP:20260424T101952
CREATED:20260315T054210Z
LAST-MODIFIED:20260315T054210Z
UID:1053-1778950800-1778979600@www.av-aken.de
SUMMARY:Nachtangeln
DESCRIPTION:
URL:https://www.av-aken.de/event/nachtangeln/
END:VEVENT
BEGIN:VEVENT
DTSTART;TZID=UTC:20260517T063000
DTEND;TZID=UTC:20260517T100000
DTSTAMP:20260424T101952
CREATED:20260315T053714Z
LAST-MODIFIED:20260315T053714Z
UID:1040-1778999400-1779012000@www.av-aken.de
SUMMARY:1. Hegeangeln
DESCRIPTION:Wie immer gilt: \n\nDauer drei Stunden\nnur eine Rute gleichzeitig\nnur Weißfisch (außer Ukelei)\nPose und Feedern gestattet\nmit Anfüttern\n\nZu Details schaut bitte in unseren Schaukasten am Vereinsheim oder zeitnah hier vorbei.
URL:https://www.av-aken.de/event/1-hegeangeln/
END:VEVENT
BEGIN:VEVENT
DTSTART;TZID=UTC:20260607T060000
DTEND;TZID=UTC:20260607T100000
DTSTAMP:20260424T101952
CREATED:20260315T053849Z
LAST-MODIFIED:20260315T053849Z
UID:1043-1780812000-1780826400@www.av-aken.de
SUMMARY:2. Hegeangeln
DESCRIPTION:Wie immer gilt: \n\nDauer drei Stunden\nnur eine Rute gleichzeitig\nnur Weißfisch (außer Ukelei)\nPose und Feedern gestattet\nmit Anfüttern\n\nZu Details schaut bitte in unseren Schaukasten am Vereinsheim oder zeitnah hier vorbei.
URL:https://www.av-aken.de/event/2-hegeangeln/
END:VEVENT
BEGIN:VEVENT
DTSTART;TZID=UTC:20260621T060000
DTEND;TZID=UTC:20260621T100000
DTSTAMP:20260424T101952
CREATED:20260315T054113Z
LAST-MODIFIED:20260315T054113Z
UID:1051-1782021600-1782036000@www.av-aken.de
SUMMARY:Pokalangeln
DESCRIPTION:Es gilt: \n\nDauer drei Stunden\nnur eine Rute gleichzeitig\nnur Weißfisch (außer Ukelei)\nPose und Feedern gestattet\nmit Anfüttern\n\nZu Details schaut bitte in unseren Schaukasten am Vereinsheim oder zeitnah hier vorbei.
URL:https://www.av-aken.de/event/pokalangeln/
LOCATION:Magdalenenteich\, Am Magdalenenteich\, Aken\, 06385\, Deutschland
END:VEVENT
BEGIN:VEVENT
DTSTART;TZID=UTC:20260718T160000
DTEND;TZID=UTC:20260718T220000
DTSTAMP:20260424T101952
CREATED:20260315T054614Z
LAST-MODIFIED:20260315T054614Z
UID:1055-1784390400-1784412000@www.av-aken.de
SUMMARY:Sommerfest
DESCRIPTION:Neu: Unser Sommerfest für unsere Mitglieder und deren Partner bzw. unsere Jugendlichen mit Eltern. \nWir planen einen geselligen Abend am Vereinsheim zum Kennenlernen und Fachsimpeln. Für Speis und Trank wird gesorgt. \nZur Planung bitten wir Euch unbedingt um Voranmeldung bei Uwe unter 0170 214 9956 bzw. vorstand@av-aken.de.
URL:https://www.av-aken.de/event/sommerfest/
END:VEVENT
BEGIN:VEVENT
DTSTART;TZID=UTC:20260801T090000
DTEND;TZID=UTC:20260801T120000
DTSTAMP:20260424T101952
CREATED:20260315T054852Z
LAST-MODIFIED:20260315T054852Z
UID:1057-1785574800-1785585600@www.av-aken.de
SUMMARY:Volksangeltag
DESCRIPTION:Wir laden alle Kinder und Jugendlichen zum Schnupperangeln ein. \nJeder Jungfischer bekommt einen erfahrenen Angler zur Seite\, der ihm die ersten Schritte zeigt und bei den seinen ersten Fängen unterstützt. \nUnd: Bisher ist niemand ohne einen Fang heimgegangen. \n 
URL:https://www.av-aken.de/event/volksangeltag/
LOCATION:Vereinsheim am Magdalenenteich
ORGANIZER;CN="ANGELVEREIN AKEN e.V.":MAILTO:uwe@manzei.com
END:VEVENT
BEGIN:VEVENT
DTSTART;TZID=UTC:20260809T080000
DTEND;TZID=UTC:20260809T170000
DTSTAMP:20260424T101952
CREATED:20260315T055119Z
LAST-MODIFIED:20260315T055119Z
UID:1059-1786262400-1786294800@www.av-aken.de
SUMMARY:Festumzug
DESCRIPTION:Wir werden diesen Sommer als Verein am Festumzug im Rahmen des Stadtfestes teilnehmen. Jedes unserer Mitglieder ist herzlich dazu eingeladen! \nWir bitten um Voranmeldung bei Uwe unter 0170 214 9956 bzw. vorstand@av-aken.de \n  \nDetails folgen …
URL:https://www.av-aken.de/event/festumzug/
END:VEVENT
BEGIN:VEVENT
DTSTART;TZID=UTC:20260906T060000
DTEND;TZID=UTC:20260906T100000
DTSTAMP:20260424T101952
CREATED:20260315T053927Z
LAST-MODIFIED:20260315T053927Z
UID:1045-1788674400-1788688800@www.av-aken.de
SUMMARY:3. Hegeangeln
DESCRIPTION:Wie immer gilt: \n\nDauer drei Stunden\nnur eine Rute gleichzeitig\nnur Weißfisch (außer Ukelei)\nPose und Feedern gestattet\nmit Anfüttern\n\nZu Details schaut bitte in unseren Schaukasten am Vereinsheim oder zeitnah hier vorbei.
URL:https://www.av-aken.de/event/3-hegeangeln/
END:VEVENT
BEGIN:VEVENT
DTSTART;TZID=UTC:20260920T063000
DTEND;TZID=UTC:20260920T100000
DTSTAMP:20260424T101952
CREATED:20260315T053956Z
LAST-MODIFIED:20260315T053956Z
UID:1047-1789885800-1789898400@www.av-aken.de
SUMMARY:4. Hegeangeln
DESCRIPTION:Wie immer gilt: \n\nDauer drei Stunden\nnur eine Rute gleichzeitig\nnur Weißfisch (außer Ukelei)\nPose und Feedern gestattet\nmit Anfüttern\n\nZu Details schaut bitte in unseren Schaukasten am Vereinsheim oder zeitnah hier vorbei.
URL:https://www.av-aken.de/event/4-hegeangeln/
END:VEVENT
BEGIN:VEVENT
DTSTART;TZID=UTC:20261004T063000
DTEND;TZID=UTC:20261004T100000
DTSTAMP:20260424T101952
CREATED:20260315T054023Z
LAST-MODIFIED:20260315T054023Z
UID:1049-1791095400-1791108000@www.av-aken.de
SUMMARY:Abangeln
DESCRIPTION:Wie immer gilt: \n\nDauer drei Stunden\nnur eine Rute gleichzeitig\nnur Weißfisch (außer Ukelei)\nPose und Feedern gestattet\nmit Anfüttern\n\nZu Details schaut bitte in unseren Schaukasten am Vereinsheim oder zeitnah hier vorbei.
URL:https://www.av-aken.de/event/abangeln/
END:VEVENT
END:VCALENDAR